BEGIN:VCALENDAR
VERSION:2.0
PRODID:-//jEvents 2.0 for Joomla//EN
CALSCALE:GREGORIAN
METHOD:PUBLISH
BEGIN:VTIMEZONE
TZID:Europe/Zurich
BEGIN:STANDARD
DTSTART:20201119T150000
RDATE:20210328T030000
TZOFFSETFROM:+0200
TZOFFSETTO:+0100
TZNAME:Europe/Zurich CET
END:STANDARD
BEGIN:STANDARD
DTSTART:20211031T020000
RDATE:20220327T030000
TZOFFSETFROM:+0200
TZOFFSETTO:+0100
TZNAME:Europe/Zurich CET
END:STANDARD
BEGIN:STANDARD
DTSTART:20221030T020000
RDATE:20230326T030000
TZOFFSETFROM:+0200
TZOFFSETTO:+0100
TZNAME:Europe/Zurich CET
END:STANDARD
BEGIN:STANDARD
DTSTART:20231029T020000
RDATE:20240331T030000
TZOFFSETFROM:+0200
TZOFFSETTO:+0100
TZNAME:Europe/Zurich CET
END:STANDARD
BEGIN:STANDARD
DTSTART:20241027T020000
RDATE:20250330T030000
TZOFFSETFROM:+0200
TZOFFSETTO:+0100
TZNAME:Europe/Zurich CET
END:STANDARD
BEGIN:STANDARD
DTSTART:20251026T020000
RDATE:20260329T030000
TZOFFSETFROM:+0200
TZOFFSETTO:+0100
TZNAME:Europe/Zurich CET
END:STANDARD
BEGIN:STANDARD
DTSTART:20261025T020000
RDATE:20270328T030000
TZOFFSETFROM:+0200
TZOFFSETTO:+0100
TZNAME:Europe/Zurich CET
END:STANDARD
BEGIN:STANDARD
DTSTART:20271031T020000
RDATE:20280326T030000
TZOFFSETFROM:+0200
TZOFFSETTO:+0100
TZNAME:Europe/Zurich CET
END:STANDARD
BEGIN:STANDARD
DTSTART:20281029T020000
RDATE:20290325T030000
TZOFFSETFROM:+0200
TZOFFSETTO:+0100
TZNAME:Europe/Zurich CET
END:STANDARD
BEGIN:STANDARD
DTSTART:20291028T020000
RDATE:20300331T030000
TZOFFSETFROM:+0200
TZOFFSETTO:+0100
TZNAME:Europe/Zurich CET
END:STANDARD
BEGIN:STANDARD
DTSTART:20301027T020000
RDATE:20310330T030000
TZOFFSETFROM:+0200
TZOFFSETTO:+0100
TZNAME:Europe/Zurich CET
END:STANDARD
BEGIN:DAYLIGHT
DTSTART:20210328T030000
RDATE:20211031T020000
TZOFFSETFROM:+0100
TZOFFSETTO:+0200
TZNAME:Europe/Zurich CEST
END:DAYLIGHT
BEGIN:DAYLIGHT
DTSTART:20220327T030000
RDATE:20221030T020000
TZOFFSETFROM:+0100
TZOFFSETTO:+0200
TZNAME:Europe/Zurich CEST
END:DAYLIGHT
BEGIN:DAYLIGHT
DTSTART:20230326T030000
RDATE:20231029T020000
TZOFFSETFROM:+0100
TZOFFSETTO:+0200
TZNAME:Europe/Zurich CEST
END:DAYLIGHT
BEGIN:DAYLIGHT
DTSTART:20240331T030000
RDATE:20241027T020000
TZOFFSETFROM:+0100
TZOFFSETTO:+0200
TZNAME:Europe/Zurich CEST
END:DAYLIGHT
BEGIN:DAYLIGHT
DTSTART:20250330T030000
RDATE:20251026T020000
TZOFFSETFROM:+0100
TZOFFSETTO:+0200
TZNAME:Europe/Zurich CEST
END:DAYLIGHT
BEGIN:DAYLIGHT
DTSTART:20260329T030000
RDATE:20261025T020000
TZOFFSETFROM:+0100
TZOFFSETTO:+0200
TZNAME:Europe/Zurich CEST
END:DAYLIGHT
BEGIN:DAYLIGHT
DTSTART:20270328T030000
RDATE:20271031T020000
TZOFFSETFROM:+0100
TZOFFSETTO:+0200
TZNAME:Europe/Zurich CEST
END:DAYLIGHT
BEGIN:DAYLIGHT
DTSTART:20280326T030000
RDATE:20281029T020000
TZOFFSETFROM:+0100
TZOFFSETTO:+0200
TZNAME:Europe/Zurich CEST
END:DAYLIGHT
BEGIN:DAYLIGHT
DTSTART:20290325T030000
RDATE:20291028T020000
TZOFFSETFROM:+0100
TZOFFSETTO:+0200
TZNAME:Europe/Zurich CEST
END:DAYLIGHT
BEGIN:DAYLIGHT
DTSTART:20300331T030000
RDATE:20301027T020000
TZOFFSETFROM:+0100
TZOFFSETTO:+0200
TZNAME:Europe/Zurich CEST
END:DAYLIGHT
END:VTIMEZONE
BEGIN:VEVENT
UID:f56c16b652e3c50dc079a2b7b63f6fcc
CATEGORIES:REAA : Hts Grades
CREATED:20210719T181100
SUMMARY:REAA : Forum d'Écossisme 18e
LOCATION:Salle humide - Tenue de ville
DESCRIPTION:\n - 15:00 Ouverture du Forum d’Écossisme en salle humide (tenue de ville)\
 n - Introduction par le T.·. S.·.\n - Exposé du T.·. Ill.·. F.·. Chev.·. Re
 mo boggio, Grand Orateur de langue française : "Le ternaire des Chevaliers 
 Rose-Croix" (30 min)\n - Discussion\n - Exposé du F.·. Chev.·. Michel Jacca
 rd : "Albert Pike, sudiste et réformateur du REAA : du Far West au Capitole
 " (50 min)\n - Discussion\n - Conclusion du F.·. Chev.·. d'Éloquence\n - 17
 :30 Apéritif\n - 18:00 Agape
X-ALT-DESC;FMTTYPE=text/html:<ul><li><strong>15:00</strong> Ouverture du Forum d’Écossisme en salle humi
 de (tenue de ville)<ul><li>Introduction par le T.·. S.·.</li><li>Exposé du 
 T.·. Ill.·. F.·. Chev.·. Remo boggio, Grand Orateur de langue française : "
 Le ternaire des Chevaliers Rose-Croix" (30 min)</li><li>Discussion</li><li>
 Exposé du F.·. Chev.·. Michel Jaccard : "Albert Pike, sudiste et réformateu
 r du REAA : du Far West au Capitole" (50 min)</li><li>Discussion</li><li>Co
 nclusion du F.·. Chev.·. d'Éloquence</li></ul></li><li><strong>17:30</stron
 g> Apéritif</li><li><strong>18:00</strong> Agape</li></ul>
CONTACT:Inscription : SMS ou tél. 079 367 66 28
X-EXTRAINFO:Inscription à l'agape au moins 24 heures à l'avance auprès du Maître des Dé
 pêches.
DTSTAMP:20260423T065353
DTSTART;TZID=Europe/Zurich:20211120T150000
SEQUENCE:0
TRANSP:OPAQUE
END:VEVENT
END:VCALENDAR