BEGIN:VCALENDAR
VERSION:2.0
PRODID:-//jEvents 2.0 for Joomla//EN
CALSCALE:GREGORIAN
METHOD:PUBLISH
BEGIN:VTIMEZONE
TZID:Europe/Zurich
BEGIN:STANDARD
DTSTART:20201025T020000
RDATE:20210328T030000
TZOFFSETFROM:+0200
TZOFFSETTO:+0100
TZNAME:Europe/Zurich CET
END:STANDARD
BEGIN:STANDARD
DTSTART:20211031T020000
RDATE:20220327T030000
TZOFFSETFROM:+0200
TZOFFSETTO:+0100
TZNAME:Europe/Zurich CET
END:STANDARD
BEGIN:STANDARD
DTSTART:20221030T020000
RDATE:20230326T030000
TZOFFSETFROM:+0200
TZOFFSETTO:+0100
TZNAME:Europe/Zurich CET
END:STANDARD
BEGIN:STANDARD
DTSTART:20231029T020000
RDATE:20240331T030000
TZOFFSETFROM:+0200
TZOFFSETTO:+0100
TZNAME:Europe/Zurich CET
END:STANDARD
BEGIN:STANDARD
DTSTART:20241027T020000
RDATE:20250330T030000
TZOFFSETFROM:+0200
TZOFFSETTO:+0100
TZNAME:Europe/Zurich CET
END:STANDARD
BEGIN:STANDARD
DTSTART:20251026T020000
RDATE:20260329T030000
TZOFFSETFROM:+0200
TZOFFSETTO:+0100
TZNAME:Europe/Zurich CET
END:STANDARD
BEGIN:STANDARD
DTSTART:20261025T020000
RDATE:20270328T030000
TZOFFSETFROM:+0200
TZOFFSETTO:+0100
TZNAME:Europe/Zurich CET
END:STANDARD
BEGIN:STANDARD
DTSTART:20271031T020000
RDATE:20280326T030000
TZOFFSETFROM:+0200
TZOFFSETTO:+0100
TZNAME:Europe/Zurich CET
END:STANDARD
BEGIN:STANDARD
DTSTART:20281029T020000
RDATE:20290325T030000
TZOFFSETFROM:+0200
TZOFFSETTO:+0100
TZNAME:Europe/Zurich CET
END:STANDARD
BEGIN:STANDARD
DTSTART:20291028T020000
RDATE:20300331T030000
TZOFFSETFROM:+0200
TZOFFSETTO:+0100
TZNAME:Europe/Zurich CET
END:STANDARD
BEGIN:STANDARD
DTSTART:20301027T020000
RDATE:20310330T030000
TZOFFSETFROM:+0200
TZOFFSETTO:+0100
TZNAME:Europe/Zurich CET
END:STANDARD
BEGIN:DAYLIGHT
DTSTART:20200911T090000
RDATE:20201025T020000
TZOFFSETFROM:+0100
TZOFFSETTO:+0200
TZNAME:Europe/Zurich CEST
END:DAYLIGHT
BEGIN:DAYLIGHT
DTSTART:20210328T030000
RDATE:20211031T020000
TZOFFSETFROM:+0100
TZOFFSETTO:+0200
TZNAME:Europe/Zurich CEST
END:DAYLIGHT
BEGIN:DAYLIGHT
DTSTART:20220327T030000
RDATE:20221030T020000
TZOFFSETFROM:+0100
TZOFFSETTO:+0200
TZNAME:Europe/Zurich CEST
END:DAYLIGHT
BEGIN:DAYLIGHT
DTSTART:20230326T030000
RDATE:20231029T020000
TZOFFSETFROM:+0100
TZOFFSETTO:+0200
TZNAME:Europe/Zurich CEST
END:DAYLIGHT
BEGIN:DAYLIGHT
DTSTART:20240331T030000
RDATE:20241027T020000
TZOFFSETFROM:+0100
TZOFFSETTO:+0200
TZNAME:Europe/Zurich CEST
END:DAYLIGHT
BEGIN:DAYLIGHT
DTSTART:20250330T030000
RDATE:20251026T020000
TZOFFSETFROM:+0100
TZOFFSETTO:+0200
TZNAME:Europe/Zurich CEST
END:DAYLIGHT
BEGIN:DAYLIGHT
DTSTART:20260329T030000
RDATE:20261025T020000
TZOFFSETFROM:+0100
TZOFFSETTO:+0200
TZNAME:Europe/Zurich CEST
END:DAYLIGHT
BEGIN:DAYLIGHT
DTSTART:20270328T030000
RDATE:20271031T020000
TZOFFSETFROM:+0100
TZOFFSETTO:+0200
TZNAME:Europe/Zurich CEST
END:DAYLIGHT
BEGIN:DAYLIGHT
DTSTART:20280326T030000
RDATE:20281029T020000
TZOFFSETFROM:+0100
TZOFFSETTO:+0200
TZNAME:Europe/Zurich CEST
END:DAYLIGHT
BEGIN:DAYLIGHT
DTSTART:20290325T030000
RDATE:20291028T020000
TZOFFSETFROM:+0100
TZOFFSETTO:+0200
TZNAME:Europe/Zurich CEST
END:DAYLIGHT
BEGIN:DAYLIGHT
DTSTART:20300331T030000
RDATE:20301027T020000
TZOFFSETFROM:+0100
TZOFFSETTO:+0200
TZNAME:Europe/Zurich CEST
END:DAYLIGHT
END:VTIMEZONE
BEGIN:VEVENT
UID:f7f43bbd1db7d43dbb0d1d22a0b21672
CATEGORIES:Liberté
CREATED:20210725T111520
SUMMARY:Liberté : T I - 150 ans de la Loge Liberté
LOCATION:Salle humide
DESCRIPTION:Ouverture des portes aux publics pour les trois expositions :\n\n - 09:00 «
   Histoire de la Loge Liberté », « Franc-Maçonnerie et bande dessinée » et 
 la « Symbolique d’un Temple Maçonnique » \n - 10:00 Conférence avec Alain G
 raesel : " Humanisme "\n - 14:00 Conférence avec Dominique Alain Freymond  
 : " Aperçu critique de 40 ans de bandes dessinées maçonniques ! "\n - 17:00
  Fermeture des portes
X-ALT-DESC;FMTTYPE=text/html:<p><span id="page18R_mcid28" class="markedContent"><span dir="ltr" role="pr
 esentation"></span></span><span id="page18R_mcid29" class="markedContent"><
 span dir="ltr" role="presentation"></span></span><span id="page18R_mcid30" 
 class="markedContent" style="font-size: 12pt;"><strong><span dir="ltr" role
 ="presentation">Ouverture des portes aux publics pour les</span><span dir="
 ltr" role="presentation"> </span><span dir="ltr" role="presentation">trois<
 /span><span dir="ltr" role="presentation"> </span><span dir="ltr" role="pre
 sentation">expositions</span><span dir="ltr" role="presentation"> </span>:<
 /strong></span></p><ul><li><span style="font-size: 10pt;"><span id="page18R
 _mcid30" class="markedContent"><span dir="ltr" role="presentation"><strong>
 09:00</strong> «</span><span dir="ltr" role="presentation"> </span><em><spa
 n dir="ltr" role="presentation"> </span><span dir="ltr" role="presentation"
 >Histoire de la Loge Liberté</span></em><span dir="ltr" role="presentation"
 > </span><span dir="ltr" role="presentation">», </span><span dir="ltr" role
 ="presentation">« <em>Franc</em></span><em><span dir="ltr" role="presentati
 on">-</span><span dir="ltr" role="presentation">Maçonnerie et bande </span>
 </em><span dir="ltr" role="presentation"><em>dessinée</em> »</span><span di
 r="ltr" role="presentation"> </span><span dir="ltr" role="presentation">et 
 </span><span dir="ltr" role="presentation">la « <em>Symbolique d’un Temple 
 Maçonnique</em> »</span><span dir="ltr" role="presentation"> </span></span>
 <span id="page18R_mcid31" class="markedContent"><span dir="ltr" role="prese
 ntation"></span></span></span></li><li><span style="font-size: 10pt;"><span
  id="page18R_mcid32" class="markedContent"><strong><span dir="ltr" role="pr
 esentation">10:00</span></strong><span dir="ltr" role="presentation"> </spa
 n></span><span id="page18R_mcid34" class="markedContent"><span dir="ltr" ro
 le="presentation">Conférence avec </span><span dir="ltr" role="presentation
 ">Alain Graesel</span><span dir="ltr" role="presentation"> : " </span></spa
 n><span id="page18R_mcid36" class="markedContent"><span dir="ltr" role="pre
 sentation"><em>Humanisme</em> </span><span dir="ltr" role="presentation">"<
 /span></span></span></li><li><span style="font-size: 10pt;"><span id="page1
 8R_mcid38" class="markedContent"><strong><span dir="ltr" role="presentation
 ">14:00</span></strong><span dir="ltr" role="presentation"> </span></span><
 span id="page18R_mcid40" class="markedContent"><span dir="ltr" role="presen
 tation">Conférence avec </span><span dir="ltr" role="presentation">Dominiqu
 e Alain Freymond </span><span dir="ltr" role="presentation"> : " </span></s
 pan><span id="page18R_mcid42" class="markedContent"><em><span dir="ltr" rol
 e="presentation">Aperçu critique de 40 ans de bandes dessinées maçonniques 
 !</span></em><span dir="ltr" role="presentation"> </span></span><span id="p
 age18R_mcid43" class="markedContent">"</span></span></li><li><span style="f
 ont-size: 10pt;"><span id="page18R_mcid43" class="markedContent"><strong><s
 pan dir="ltr" role="presentation">17:00</span></strong><span dir="ltr" role
 ="presentation"> </span></span><span id="page18R_mcid44" class="markedConte
 nt"><span dir="ltr" role="presentation">Fermeture des portes</span></span><
 /span></li></ul>
CONTACT:Cette adresse e-mail est protégée contre les robots spammeurs. Vous devez activer le JavaScript pour la visualiser.
X-EXTRAINFO:Inscription à l'agape : SMS ou tél. 079 411 49 84\ncourriel : Cette adresse
  e-mail est protégée contre les robots spammeurs. Vous devez activer le Jav
 aScript pour la visualiser. au moins 24 heures à l'avance.
DTSTAMP:20260422T175719
DTSTART;TZID=Europe/Zurich:20210912T090000
SEQUENCE:0
TRANSP:OPAQUE
END:VEVENT
END:VCALENDAR